BEGIN:VCALENDAR
VERSION:2.0
PRODID:-//Plone.org//NONSGML plone.app.event//EN
X-WR-TIMEZONE:Europe/Rome
BEGIN:VEVENT
SUMMARY:BiGeA Department - International Mobility Meeting
DTSTART;TZID=Europe/Rome;VALUE=DATE-TIME:20221104T163000
DTEND;TZID=Europe/Rome;VALUE=DATE-TIME:20221104T180000
DTSTAMP;VALUE=DATE-TIME:20260420T010847Z
UID:282149014a2a491d88c014ae4d39d219@bigea.unibo.it
CREATED;VALUE=DATE-TIME:20221102T152455Z
DESCRIPTION:Information meeting on the various opportunities of study\, in
 ternship and thesis abroad in the context of the calls: Overseas\, Erasmus
  +\, Call for thesis abroad on departmental funds.
LAST-MODIFIED;VALUE=DATE-TIME:20221102T152523Z
URL:https://bigea.unibo.it/en/events/bigea-department-international-mobili
 ty-meeting-1
END:VEVENT
BEGIN:VTIMEZONE
TZID:Europe/Rome
X-LIC-LOCATION:Europe/Rome
BEGIN:STANDARD
DTSTART;VALUE=DATE-TIME:20221030T020000
TZNAME:CET
TZOFFSETFROM:+0200
TZOFFSETTO:+0100
END:STANDARD
END:VTIMEZONE
END:VCALENDAR
