BEGIN:VCALENDAR
VERSION:2.0
PRODID:-//Plone.org//NONSGML plone.app.event//EN
X-WR-TIMEZONE:Europe/Rome
BEGIN:VEVENT
SUMMARY:Save the date: take part to the event for international students!
DTSTART;TZID=Europe/Rome;VALUE=DATE-TIME:20191007T150000
DTEND;TZID=Europe/Rome;VALUE=DATE-TIME:20191007T180000
DTSTAMP;VALUE=DATE-TIME:20260421T161431Z
UID:81a7c86230c9479cbd8082d6328b3ae1@bigea.unibo.it
CREATED;VALUE=DATE-TIME:20190730T073526Z
DESCRIPTION:The Welcome Day will be held on 7 October and will be an oppor
 tunity to meet other students and get to know the University of Bologna an
 d the city.
LAST-MODIFIED;VALUE=DATE-TIME:20190730T073709Z
URL:https://bigea.unibo.it/en/events/titolo-save-the-date-take-part-to-the
 -event-for-international-students
END:VEVENT
BEGIN:VTIMEZONE
TZID:Europe/Rome
X-LIC-LOCATION:Europe/Rome
BEGIN:DAYLIGHT
DTSTART;VALUE=DATE-TIME:20190331T030000
TZNAME:CEST
TZOFFSETFROM:+0100
TZOFFSETTO:+0200
END:DAYLIGHT
END:VTIMEZONE
END:VCALENDAR
