BEGIN:VCALENDAR
VERSION:2.0
PRODID:-//Plone.org//NONSGML plone.app.event//EN
X-WR-TIMEZONE:Europe/Rome
BEGIN:VEVENT
SUMMARY:Festival dell'educazione scientifica
DTSTART;TZID=Europe/Rome;VALUE=DATE-TIME:20250227T160000
DTEND;TZID=Europe/Rome;VALUE=DATE-TIME:20250301T210000
DTSTAMP;VALUE=DATE-TIME:20260419T182248Z
UID:d80859000d3f490792fb9452a2a3bf98@bigea.unibo.it
CREATED;VALUE=DATE-TIME:20250131T165001Z
LAST-MODIFIED;VALUE=DATE-TIME:20250206T154357Z
URL:https://bigea.unibo.it/it/eventi/festival-delleducazione-scientifica
END:VEVENT
BEGIN:VTIMEZONE
TZID:Europe/Rome
X-LIC-LOCATION:Europe/Rome
BEGIN:STANDARD
DTSTART;VALUE=DATE-TIME:20241027T020000
TZNAME:CET
TZOFFSETFROM:+0200
TZOFFSETTO:+0100
END:STANDARD
END:VTIMEZONE
END:VCALENDAR
