BEGIN:VCALENDAR
VERSION:2.0
PRODID:-//Plone.org//NONSGML plone.app.event//EN
X-WR-TIMEZONE:Europe/Rome
BEGIN:VEVENT
SUMMARY:Il museo come trasmissione di curiosità
DTSTART;TZID=Europe/Rome;VALUE=DATE-TIME:20221119T163000
DTEND;TZID=Europe/Rome;VALUE=DATE-TIME:20221119T173000
DTSTAMP;VALUE=DATE-TIME:20260420T122230Z
UID:2672cd4b61614c25b946b198f2ffcaf4@bigea.unibo.it
CREATED;VALUE=DATE-TIME:20221109T112747Z
LAST-MODIFIED;VALUE=DATE-TIME:20221109T112750Z
URL:https://bigea.unibo.it/it/eventi/il-museo-come-trasmissione-di-curiosi
 ta
END:VEVENT
BEGIN:VTIMEZONE
TZID:Europe/Rome
X-LIC-LOCATION:Europe/Rome
BEGIN:STANDARD
DTSTART;VALUE=DATE-TIME:20221030T020000
TZNAME:CET
TZOFFSETFROM:+0200
TZOFFSETTO:+0100
END:STANDARD
END:VTIMEZONE
END:VCALENDAR
